BEGIN:VCALENDAR
VERSION:2.0
PRODID:-//iERA - ECPv6.15.20//NONSGML v1.0//EN
CALSCALE:GREGORIAN
METHOD:PUBLISH
X-WR-CALNAME:iERA
X-ORIGINAL-URL:https://iera.org
X-WR-CALDESC:Events for iERA
REFRESH-INTERVAL;VALUE=DURATION:PT1H
X-Robots-Tag:noindex
X-PUBLISHED-TTL:PT1H
BEGIN:VTIMEZONE
TZID:UTC
BEGIN:STANDARD
TZOFFSETFROM:+0000
TZOFFSETTO:+0000
TZNAME:UTC
DTSTART:20240101T000000
END:STANDARD
END:VTIMEZONE
BEGIN:VEVENT
DTSTART;VALUE=DATE:20250726
DTEND;VALUE=DATE:20250727
DTSTAMP:20260423T171412
CREATED:20250612T152903Z
LAST-MODIFIED:20250612T153740Z
UID:113956-1753488000-1753574399@iera.org
SUMMARY:National Dawah Convention
DESCRIPTION:The inaugural National Dawah Convention is a first of its kind gathering – where dawah leaders\, teams\, organisations and stakeholders come together to collaborate and share best practice. The aim is to help build a vibrant and strong dawah network here in the UK. \nThe Convention will be held on Saturday 26th July 2025. In addition to experts in the Dawah\, the Convention will include leaders across Muslim civil society.
URL:https://iera.org/event/national-dawah-convention/
CATEGORIES:Education
ATTACH;FMTTYPE=image/jpeg:https://iera.org/wp-content/uploads/2025/06/nation-d-c.jpg
ORGANIZER;CN="iERA":MAILTO:events@iera.org
END:VEVENT
END:VCALENDAR